BEGIN:VCALENDAR
PRODID:-//eluceo/ical//2.0/EN
VERSION:2.0
CALSCALE:GREGORIAN
BEGIN:VEVENT
UID:93d2199112d76bf27dc199b4f7569046
DTSTAMP:20260421T032243Z
SUMMARY:Comité\, Visite du Gouverneur Francis M. Godel\, RC Neuchâtel-Vie
 ille Thielle\, Lunch\, Message du gouverneur
DESCRIPTION:
URL:https://geneve-sud.rotary1990.ch/es/agenda/show/12774
DTSTART;TZID=Europe/Zurich:20091015T121500
DTEND;TZID=Europe/Zurich:20091015T121500
LOCATION:La Chaumière
CATEGORIES:Rotary
END:VEVENT
BEGIN:VTIMEZONE
TZID:Europe/Zurich
BEGIN:DAYLIGHT
DTSTART:20091015T121500
TZNAME:CEST
TZOFFSETTO:+0200
TZOFFSETFROM:+0200
END:DAYLIGHT
END:VTIMEZONE
END:VCALENDAR
