BEGIN:VCALENDAR
PRODID:-//eluceo/ical//2.0/EN
VERSION:2.0
CALSCALE:GREGORIAN
BEGIN:VEVENT
UID:a4cb1ef7d3287e7cd1cccc9d621f48df
DTSTAMP:20260421T031907Z
SUMMARY:Lucnh\, Conférence de M. Olivier Coutau "Les nouveaux enjeux de la
  Genève internationale"
DESCRIPTION:
URL:https://geneve-sud.rotary1990.ch/es/agenda/show/12775
DTSTART;TZID=Europe/Zurich:20091022T121500
DTEND;TZID=Europe/Zurich:20091022T121500
LOCATION:La Chaumière
CATEGORIES:Rotary
END:VEVENT
BEGIN:VTIMEZONE
TZID:Europe/Zurich
BEGIN:DAYLIGHT
DTSTART:20091022T121500
TZNAME:CEST
TZOFFSETTO:+0200
TZOFFSETFROM:+0200
END:DAYLIGHT
END:VTIMEZONE
END:VCALENDAR
